BEGIN:VCALENDAR
VERSION:2.0
METHOD:PUBLISH
BEGIN:VEVENT
DTSTART:20260305T170000
DTEND:20260305T170000
LOCATION:Gminny Ośrodek Kultury ul. Zjednoczenia 67  Pawłowice
TRANSP: OPAQUE
SEQUENCE:0
UID:
DTSTAMP:20260420T124634Z
SUMMARY:Pawłowice: Spotkanie informacyjne o konkursach Śląskie NOWEFIO 2024-2026
DESCRIPTION:Zapraszamy na spotkanie poświęcone konkursowi grantowemu Śląskie NOWEFIO 2024-2026. Wydarzenie odbędzie się 5 marca 2026 r. o godz. 17:00 w Gminnym Ośrodku Kultury w Pawłowicach (ul.......
URL:https://app.evenea.pl/event/nowefiopawlowice2026/
PRIORITY:1
CLASS:PUBLIC
END:VEVENT
END:VCALENDAR
