BEGIN:VCALENDAR
VERSION:2.0
METHOD:PUBLISH
BEGIN:VEVENT
DTSTART:20260227T153000
DTEND:20260227T153000
LOCATION:Centrum Rozwoju Inicjatyw Społecznych CRIS ul. Rudzka 13c (budynek B, sala 3.9)  Rybnik
TRANSP: OPAQUE
SEQUENCE:0
UID:
DTSTAMP:20260424T012003Z
SUMMARY:Rybnik: Kawa z funduszami - spotkanie informacyjne o konkursach Śląskie NOWEFIO 2024-2026
DESCRIPTION:Z okazji Międzynarodowego Dnia Organizacji Społecznych zapraszamy na spotkanie przy kawie poświęcone konkursowi grantowemu Śląskie NOWEFIO 2024-2026. Wydarzenie odbędzie się 27 lutego o......
URL:https://app.evenea.pl/event/nowefiorybnik2026/
PRIORITY:1
CLASS:PUBLIC
END:VEVENT
END:VCALENDAR
