BEGIN:VCALENDAR
VERSION:2.0
METHOD:PUBLISH
BEGIN:VEVENT
DTSTART:20250320T170000
DTEND:20250320T183000
LOCATION:Żorskie Centrum Organizacji Pozarządowych os. Sikorskiego 52  Żory
TRANSP: OPAQUE
SEQUENCE:0
UID:
DTSTAMP:20260419T202246Z
SUMMARY:Żory: Spotkanie informacyjno-edukacyjne dot. konkursu Śląskie Nowe FIO
DESCRIPTION:Zapraszamy na spotkanie na temat konkursu grantowego "Śląskie NOWEFIO 2024-2026". Spotkanie odbędzie się 20 marca o 17:00 w siedzibie Żorskiego Centrum Organizacji Pozarządowych na os.......
URL:https://app.evenea.pl/event/nowefiozory2025/
PRIORITY:1
CLASS:PUBLIC
END:VEVENT
END:VCALENDAR
