BEGIN:VCALENDAR
VERSION:2.0
METHOD:PUBLISH
BEGIN:VEVENT
DTSTART:20220814T200000
DTEND:20220814T213000
LOCATION:Nowe Miasto   Warszawa
TRANSP: OPAQUE
SEQUENCE:0
UID:
DTSTAMP:20260421T145556Z
SUMMARY:Wesoły spacer po Nowym Mieście - niedziela 14 sierpnia 2022
DESCRIPTION:Opis wydarzenia znajduje się na stronie: http://www.wesolespacerypowarszawie.pl/wesoly-spacer-po-nowym-miescie/Aby zapisać się na ten spacer należy wybrać liczbę miejsc, po czym kliknąć......
URL:https://app.evenea.pl/event/nowemiasto1/
PRIORITY:1
CLASS:PUBLIC
END:VEVENT
END:VCALENDAR
