BEGIN:VCALENDAR
VERSION:2.0
METHOD:PUBLISH
BEGIN:VEVENT
DTSTART:20230224T180000
DTEND:20230226T130000
LOCATION:Kawiarenka przy Parafii Bożego Ciała na Morenie Piecewska 9  Gdańsk
TRANSP: OPAQUE
SEQUENCE:0
UID:
DTSTAMP:20260423T003430Z
SUMMARY:Warsztaty Nieprzeciętny Tata Gdańsk
DESCRIPTION:Warsztaty Nieprzeciętny TataTo intensywne warsztaty, w których doświadczysz przemiany swojego ojcowskiego serca, otrzymasz potężną dawkę inspiracji, a także spotkasz innych ojców i......
URL:https://app.evenea.pl/event/nowepokoleniegdansk/
PRIORITY:1
CLASS:PUBLIC
END:VEVENT
END:VCALENDAR
