BEGIN:VCALENDAR
VERSION:2.0
METHOD:PUBLISH
BEGIN:VEVENT
DTSTART:20260127T235500
DTEND:20260127T235900
LOCATION:Hotel Mercure Stare Miasto Jana Heweliusza 22  Gdańsk
TRANSP: OPAQUE
SEQUENCE:0
UID:
DTSTAMP:20260421T135626Z
SUMMARY:NOWOROCZNY BAL CHARYTATYWNY 2026 - 7.02.2026
DESCRIPTION:Zapraszamy na Noworoczny Bal Charytatywny dedykowany dla Pań i Panów, organizowany przez Klub Siostry w Biznesie.FACEBOOK: https://www.facebook.com/siostrywbiznesiegdanskINSTAGRAM:......
URL:https://app.evenea.pl/event/noworocznybalcharytatywny2026kopia1kopia1kopia1/
PRIORITY:1
CLASS:PUBLIC
END:VEVENT
END:VCALENDAR
