BEGIN:VCALENDAR
VERSION:2.0
METHOD:PUBLISH
BEGIN:VEVENT
DTSTART:20260427T090000
DTEND:20260428T130000
LOCATION:Rzeszów Zaczernie 190A  36-062 Zaczernie
TRANSP: OPAQUE
SEQUENCE:0
UID:
DTSTAMP:20260420T232759Z
SUMMARY:Konferencja Szkolno-Przedszkolna | nPhoto & Lookat
DESCRIPTION:Jeśli fotografia szkolna i przedszkolna to Twój główny kierunek (lub chcesz, żeby nim była) - to wydarzenie jest stworzone dokładnie dla Ciebie. Dwa dni intensywnej wiedzy biznesowej,......
URL:https://app.evenea.pl/event/nphotokonferencjaszkolnoprzedszkolna/
PRIORITY:1
CLASS:PUBLIC
END:VEVENT
END:VCALENDAR
