BEGIN:VCALENDAR
VERSION:2.0
METHOD:PUBLISH
BEGIN:VEVENT
DTSTART:20190924T000000
DTEND:20190924T000000
LOCATION:Poznań  Katowice  Gdańsk  Warszawa  Rzeszów   Poznań  Katowice  Gdańsk  Warszawa  Rzeszów
TRANSP: OPAQUE
SEQUENCE:0
UID:
DTSTAMP:20260421T054602Z
SUMMARY:nPhoto Roadshow 2019 - Spotkanie ludzi fotografii!
DESCRIPTION:Kolejna edycja fotograficznych spotkań z nPhoto już od 24 września!Tegoroczną edycję rozpoczniemy w Poznaniu, a zakończymy w Rzeszowie! &lt;&lt;DOWIEDZ SIĘ WIĘCEJ&gt;&gt;&gt;&gt;Dla kogo......
URL:https://app.evenea.pl/event/nphotoroadshow/
PRIORITY:1
CLASS:PUBLIC
END:VEVENT
END:VCALENDAR
