BEGIN:VCALENDAR
VERSION:2.0
METHOD:PUBLISH
BEGIN:VEVENT
DTSTART:20200327T090000
DTEND:20200327T090000
LOCATION:SZCZECIN- ŁÓDŹ- WARSZAWA- WROCŁAW   
TRANSP: OPAQUE
SEQUENCE:0
UID:
DTSTAMP:20260421T020754Z
SUMMARY:nPhoto Roadshow  2020 - Spotkanie ludzi fotografii!
DESCRIPTION:Trzecia edycja fotograficznych spotkań z nPhoto już wiosną! nPhoto Roadshow to nie jest zwykłe spotkanie!to wiedzawymiana doświadczeńinspiracjerelacjeto szansa na nowe branżowe......
URL:https://app.evenea.pl/event/nphotoroadshow2020/
PRIORITY:1
CLASS:PUBLIC
END:VEVENT
END:VCALENDAR
