BEGIN:VCALENDAR
VERSION:2.0
METHOD:PUBLISH
BEGIN:VEVENT
DTSTART:20230724T100000
DTEND:20230725T180000
LOCATION:nPhoto Zaczernie 190  Zaczernie
TRANSP: OPAQUE
SEQUENCE:0
UID:
DTSTAMP:20260421T022227Z
SUMMARY:nPhoto Workshops 3
DESCRIPTION:ŚWIATŁO - KADR - KOLOR - DRUK.nPhoto Workshops 3 - ŚWIATŁO - KADR - KOLOR - DRUK - zapraszamy! To już trzecia edycja warsztatów nPhoto Workshops - ŚWIATŁO - KADR - KOLOR - DRUK! Głównym......
URL:https://app.evenea.pl/event/nphotoworkshops3/
PRIORITY:1
CLASS:PUBLIC
END:VEVENT
END:VCALENDAR
