BEGIN:VCALENDAR
VERSION:2.0
METHOD:PUBLISH
BEGIN:VEVENT
DTSTART:20241022T094500
DTEND:20241023T180000
LOCATION:nPhoto Zaczernie 190  Zaczernie
TRANSP: OPAQUE
SEQUENCE:0
UID:
DTSTAMP:20260421T040456Z
SUMMARY:nPhoto Workshops 5
DESCRIPTION:ŚWIATŁO - KADR - KOLOR - DRUK.ŚWIATŁO - KADR - KOLOR - DRUK czyli nPhoto Workshops 5 - zapraszamy już w październiku!Jeśli myśleliście, że nic już więcej w tym roku nie planujemy w......
URL:https://app.evenea.pl/event/nphotoworkshops5/
PRIORITY:1
CLASS:PUBLIC
END:VEVENT
END:VCALENDAR
