BEGIN:VCALENDAR
VERSION:2.0
METHOD:PUBLISH
BEGIN:VEVENT
DTSTART:20251029T090000
DTEND:20251029T170000
LOCATION:nPhoto Zaczernie 190  Zaczernie
TRANSP: OPAQUE
SEQUENCE:0
UID:
DTSTAMP:20260421T004110Z
SUMMARY:nPhoto Workshops 6
DESCRIPTION:\n\n	nPhoto Workshops vol. 6 \n\n	ŚWIATŁO - KADR - KOLOR - DRUK.\n\n	29.10.2025 r. - to już pewne! Widzimy się na 6 edycji nPhoto Workshops w siedzibie marki nPhoto.Weź udział w warsztatach......
URL:https://app.evenea.pl/event/nphotoworkshops6/
PRIORITY:1
CLASS:PUBLIC
END:VEVENT
END:VCALENDAR
