BEGIN:VCALENDAR
VERSION:2.0
METHOD:PUBLISH
BEGIN:VEVENT
DTSTART:20230907T190000
DTEND:20230908T235900
LOCATION:Scena Regionalnego Centrum Kultur Pogranicza Kolejowa 1  Krosno
TRANSP: OPAQUE
SEQUENCE:0
UID:
DTSTAMP:20260420T140321Z
SUMMARY:KARNET - NOCNE TEATRALIA STRACHY
DESCRIPTION:KARNET NA FESTIWAL NOCNE TEATRALIA STRACHYObejmuje wstęp na następujące wydarzenia w ramach Festiwalu Nocne Teatralia Strachy w dniach 7-9 września 2023:- 7 września 2023, 19:00Kiedyś Ci......
URL:https://app.evenea.pl/event/ntskarnet/
PRIORITY:1
CLASS:PUBLIC
END:VEVENT
END:VCALENDAR
