BEGIN:VCALENDAR
VERSION:2.0
METHOD:PUBLISH
BEGIN:VEVENT
DTSTART:20260419T110000
DTEND:20260419T110000
LOCATION:ZODIAK Warszawski Pawilon Architektury Pasaż Stefana Wiecheckiego "Wiecha" 4  Warszawa
TRANSP: OPAQUE
SEQUENCE:0
UID:
DTSTAMP:20260422T185620Z
SUMMARY:Oaza spokoju czy plac zabaw dla dorosłych? | warsztaty dla dorosłych
DESCRIPTION:Warsztaty przeznaczone dla dorosłych między 30 a 60 rokiem życia.Zapraszamy na warsztaty towarzyszące wystawie Jakub Szczęsny. Polskie Projekty Polscy Projektanci!Jak, gdzie i dla kogo......
URL:https://app.evenea.pl/event/oazaspokojuczyplaczabaw/
PRIORITY:1
CLASS:PUBLIC
END:VEVENT
END:VCALENDAR
