BEGIN:VCALENDAR
VERSION:2.0
METHOD:PUBLISH
BEGIN:VEVENT
DTSTART:20231012T183000
DTEND:20231012T183000
LOCATION:Dobre Miejsce - Katolickie Centrum Kultury Dewajtis 3 (wej.B)  Warszawa
TRANSP: OPAQUE
SEQUENCE:0
UID:
DTSTAMP:20260423T020822Z
SUMMARY:Film "Oblicze Jezusa"
DESCRIPTION:Mamy dla Państwa wyjątkową propozycję na październikowy wieczór. Zapraszamy na przedpremierowy pokaz filmu pt. "Oblicze Jezusa".Film pojawi się w kinach dopiero 13 października. W Dobrym......
URL:https://app.evenea.pl/event/obliczejezusa/
PRIORITY:1
CLASS:PUBLIC
END:VEVENT
END:VCALENDAR
