BEGIN:VCALENDAR
VERSION:2.0
METHOD:PUBLISH
BEGIN:VEVENT
DTSTART:20260321T120000
DTEND:20260321T140000
LOCATION:Zespół Hal Targowych- podziemia Hali Łukowej Box 320 Wójta Radtkego 36 - wejście od ul. 3 Maja  81-355 Gdynia
TRANSP: OPAQUE
SEQUENCE:0
UID:
DTSTAMP:20260425T055746Z
SUMMARY:"Oblicze Wiosny - Zadbaj o siebie i znajdź swój kolor", prowadzone przez Monikę Czarny z Mary Kay
DESCRIPTION:Warsztat poświęcony będzie wiosennej pielęgnacji skóry oraz świadomemu doborowi kolorów makijażu. Delikatna stylizacja stanie się wstępem do spojrzenia na siebie w nowym świetle. Monika......
URL:https://app.evenea.pl/event/obliczewiosny/
PRIORITY:1
CLASS:PUBLIC
END:VEVENT
END:VCALENDAR
