BEGIN:VCALENDAR
VERSION:2.0
METHOD:PUBLISH
BEGIN:VEVENT
DTSTART:20200625T190000
DTEND:20200625T190000
LOCATION:Księgarnia Smak Słowa ul. Bohaterów Monte Cassino 6a  Sopot
TRANSP: OPAQUE
SEQUENCE:0
UID:
DTSTAMP:20260421T183710Z
SUMMARY:Czytanie performatywne  w cyklu "Ocean opowieści"
DESCRIPTION:Zapraszamy na kolejne czytanie w cyklu "Ocean opowieści". Fragmenty Krótkiej wymiany ognia Zyty Rudzkiej przeczyta Małgorzata Brajner.Krótka wymiana ognia to przepełniona ironią oraz......
URL:https://app.evenea.pl/event/oceanopowiesci/
PRIORITY:1
CLASS:PUBLIC
END:VEVENT
END:VCALENDAR
