BEGIN:VCALENDAR
VERSION:2.0
METHOD:PUBLISH
BEGIN:VEVENT
DTSTART:20200926T100000
DTEND:20200927T170000
LOCATION:Folwark Edwardowo Bukowska 177  Poznań
TRANSP: OPAQUE
SEQUENCE:0
UID:
DTSTAMP:20260420T112444Z
SUMMARY:Warsztaty Renowacji Mebli w Folwarku Edwardowo z Rzuć Pan Okiem!
DESCRIPTION:Wydarzenie zorganizowane za zgodą i według wytycznych Wojewódzkiej Stacji Sanitarno-Epidemiologicznej w PoznaniuWydarzenie w ramach Poznań Design Festiwal 2020Poznań Design Festiwal, Folwark......
URL:https://app.evenea.pl/event/odnawianiepdf/
PRIORITY:1
CLASS:PUBLIC
END:VEVENT
END:VCALENDAR
