BEGIN:VCALENDAR
VERSION:2.0
METHOD:PUBLISH
BEGIN:VEVENT
DTSTART:20211023T100000
DTEND:20211023T235900
LOCATION:ONLINE   
TRANSP: OPAQUE
SEQUENCE:0
UID:
DTSTAMP:20260422T131118Z
SUMMARY:OdNowa Miłość - konferencja online
DESCRIPTION:OdNowa Miłość to emocjonalna bomba.Nie możesz być obecna/obecny w dniu konferencji na prelekcjach? Nic straconego! Wraz z biletem otrzymujesz dostęp do nagrań aż przez 365 dni.......
URL:https://app.evenea.pl/event/odnowa-milosc/
PRIORITY:1
CLASS:PUBLIC
END:VEVENT
END:VCALENDAR
