BEGIN:VCALENDAR
VERSION:2.0
METHOD:PUBLISH
BEGIN:VEVENT
DTSTART:20231121T160000
DTEND:20231121T160000
LOCATION:   
TRANSP: OPAQUE
SEQUENCE:0
UID:
DTSTAMP:20260422T113323Z
SUMMARY:Jak poprowadzić lekcję wspierającą odporność psychiczną uczniów i uczennic
DESCRIPTION:Program spotkania:Znaczenie odporności psychicznej uczniów i uczennic w procesie uczenia się Metody pracy edukacyjnej uwzględniające potrzeby psychiczne uczniów i uczennic. Sposoby oceniania......
URL:https://app.evenea.pl/event/odpornosc-psychiczna-dzieci/
PRIORITY:1
CLASS:PUBLIC
END:VEVENT
END:VCALENDAR
