BEGIN:VCALENDAR
VERSION:2.0
METHOD:PUBLISH
BEGIN:VEVENT
DTSTART:20191206T180000
DTEND:20191206T180000
LOCATION:Audytorium Akademii Marynarki Wojennej (budynek Biblioteki Głównej AMW - wejście od ul. Grudzińskiego) Śmidowicza 69  Gdynia
TRANSP: OPAQUE
SEQUENCE:0
UID:
DTSTAMP:20260420T210109Z
SUMMARY:Oksywski Festiwal Filmowy - Ikar. Legenda Mietka Kosza.
DESCRIPTION:"Ikar. Legenda Mietka Kosza" to poruszająca biografia niewidomego jazzowego pianisty, jak i przenikliwe studium samotności. Wbrew wszelkim przeciwnościom losu i własnym ograniczeniom Mietek......
URL:https://app.evenea.pl/event/off/
PRIORITY:1
CLASS:PUBLIC
END:VEVENT
END:VCALENDAR
