BEGIN:VCALENDAR
VERSION:2.0
METHOD:PUBLISH
BEGIN:VEVENT
DTSTART:20250614T090000
DTEND:20250615T160000
LOCATION:Klub Tenisowy ARKA Juliana Ejsmonda 3  Gdynia
TRANSP: OPAQUE
SEQUENCE:0
UID:
DTSTAMP:20260424T050738Z
SUMMARY:2 Turniej Tenisowy Pomorskiej Platformy Offshore OFFSHORE WIND CUP 2025
DESCRIPTION:Zapraszamy na wyjątkowe wydarzenie organizowane pod egidą Pomorskiej Platformy Offshore - turniej tenisowy dedykowany specjalistom z branży morskiej energetyki wiatrowej. Odbędzie się on 14-15......
URL:https://app.evenea.pl/event/offshorewindcup2025/
PRIORITY:1
CLASS:PUBLIC
END:VEVENT
END:VCALENDAR
