BEGIN:VCALENDAR
VERSION:2.0
METHOD:PUBLISH
BEGIN:VEVENT
DTSTART:20260619T190400
DTEND:20260621T144400
LOCATION:Sudety Zachodnie   okolice Janowic Wielkich
TRANSP: OPAQUE
SEQUENCE:0
UID:
DTSTAMP:20260425T024340Z
SUMMARY:Weekend Charakteru Ojca i nastoletniej Córki 4MPL
DESCRIPTION:Weekend Charakteru OiC to wydarzenie outdoorowe, które ma na celu wzmocnienie i budowanie szczególnej więzi ojca i córki(12-17 lat). W czasie tego eventu staniecie przed wyzwaniami do pokonania......
URL:https://app.evenea.pl/event/oic-2026/
PRIORITY:1
CLASS:PUBLIC
END:VEVENT
END:VCALENDAR
