BEGIN:VCALENDAR
VERSION:2.0
METHOD:PUBLISH
BEGIN:VEVENT
DTSTART:20260529T184400
DTEND:20260531T140400
LOCATION:Sudety Zachodnie   Janowice Wielkie
TRANSP: OPAQUE
SEQUENCE:0
UID:
DTSTAMP:20260425T023825Z
SUMMARY:Weekend Charakteru Ojca i nastoletniego Syna 4MPL
DESCRIPTION:Weekend Charakteru OiS 4MPL jest outdoorową imprezą dla ojców(opiekunów) i ich nastoletnich(12-17 lat) synów. Wydarzenie ma miejsca w Rudawach Janowickich gdzie śpimy pod namiotami, poruszamy......
URL:https://app.evenea.pl/event/ois-2026/
PRIORITY:1
CLASS:PUBLIC
END:VEVENT
END:VCALENDAR
