BEGIN:VCALENDAR
VERSION:2.0
METHOD:PUBLISH
BEGIN:VEVENT
DTSTART:20190909T183000
DTEND:20190909T183000
LOCATION:Kawiarnia DeSer Czajkowskiego 19  Krosno
TRANSP: OPAQUE
SEQUENCE:0
UID:
DTSTAMP:20260421T162608Z
SUMMARY:Aromatyczna jesień w Krośnie - Olejki eteryczne w ciąży i porodzie
DESCRIPTION:Informacje na stronie www.mamatuli.pl...
URL:https://app.evenea.pl/event/olejkiwciazyiporodzie/
PRIORITY:1
CLASS:PUBLIC
END:VEVENT
END:VCALENDAR
