BEGIN:VCALENDAR
VERSION:2.0
METHOD:PUBLISH
BEGIN:VEVENT
DTSTART:20200219T173000
DTEND:20200219T173000
LOCATION:Kawiarnia De Ser Czajkowskiego 19  Krosno
TRANSP: OPAQUE
SEQUENCE:0
UID:
DTSTAMP:20260420T152840Z
SUMMARY:Żyj Naturalnie - spotkanie olejkowe Krosno
DESCRIPTION:Dodaj opis wydarzenia...
URL:https://app.evenea.pl/event/olejkiwkrosnie2/
PRIORITY:1
CLASS:PUBLIC
END:VEVENT
END:VCALENDAR
