BEGIN:VCALENDAR
VERSION:2.0
METHOD:PUBLISH
BEGIN:VEVENT
DTSTART:20200120T100000
DTEND:20200120T143000
LOCATION:Lloyd Woodley Szkoła Językowa - Sala Szkoleniowa ul. Narutowicza 86  Łódź
TRANSP: OPAQUE
SEQUENCE:0
UID:
DTSTAMP:20260419T182934Z
SUMMARY:Newspoint & More Bananas On The Marketing Tour Łódź
DESCRIPTION:Newspoint &amp; More Bananas on the Marketing TourData: 20 stycznia 2020 r., 10.00 - 14.30Miejsce: Łódź, ul. Narutowicza 86 (Lloyd Woodley Szkoła Językowa)SZKOLENIE BEZPŁATNE!Organizatorzy:......
URL:https://app.evenea.pl/event/onthemarketingtour/
PRIORITY:1
CLASS:PUBLIC
END:VEVENT
END:VCALENDAR
