BEGIN:VCALENDAR
VERSION:2.0
METHOD:PUBLISH
BEGIN:VEVENT
DTSTART:20211218T193000
DTEND:20211218T193000
LOCATION:Kolonia Artystów Dolne Miasto Dolna 4  Gdańsk
TRANSP: OPAQUE
SEQUENCE:0
UID:
DTSTAMP:20260423T220441Z
SUMMARY:OPA #12
DESCRIPTION:Zapraszamy na 12 (cykliczne) spotkanie OPA.18.12.2021 g. 19:30Kolonia Artystów | Dolne Miasto | ul. Dolna 4Lesia Pcholka - instalacjaOskar Jakob Tomala - koncertAgnieszka Weis - ceramikaTymon......
URL:https://app.evenea.pl/event/opa12/
PRIORITY:1
CLASS:PUBLIC
END:VEVENT
END:VCALENDAR
