BEGIN:VCALENDAR
VERSION:2.0
METHOD:PUBLISH
BEGIN:VEVENT
DTSTART:20240610T123000
DTEND:20240610T143000
LOCATION:Q22 Al. Jana Pawła II 22  Warszawa
TRANSP: OPAQUE
SEQUENCE:0
UID:
DTSTAMP:20260423T012417Z
SUMMARY:Open Day for foreign student at ING Hubs Poland (Warsaw)
DESCRIPTION:Open Day for foreign students - come and join us at ING Hubs Poland #Warsaw! 🏢We invite international students of the University of Warsaw and the Kozminski University in Warsaw to join us in......
URL:https://app.evenea.pl/event/opendayinghubspolandwarsaw/
PRIORITY:1
CLASS:PUBLIC
END:VEVENT
END:VCALENDAR
