BEGIN:VCALENDAR
VERSION:2.0
METHOD:PUBLISH
BEGIN:VEVENT
DTSTART:20240425T120000
DTEND:20240425T130000
LOCATION:April 25, 2024 (Thursday) / 12 p.m. - 1 p.m. / time zone: GMT+1   
TRANSP: OPAQUE
SEQUENCE:0
UID:
DTSTAMP:20260420T190604Z
SUMMARY:Virtual Open Day 2024 - Lodz University of Technology (PT)
DESCRIPTION:📢 Quer saber porque é que deve estudar na Universidade de Tecnologia de Lodz?Conhece os nossos estudantes e explora todas as oportunidades que a nossa universidade tem para oferecer......
URL:https://app.evenea.pl/event/opendaypt/
PRIORITY:1
CLASS:PUBLIC
END:VEVENT
END:VCALENDAR
