BEGIN:VCALENDAR
VERSION:2.0
METHOD:PUBLISH
BEGIN:VEVENT
DTSTART:20260519T180000
DTEND:20260519T180000
LOCATION:Uniwersytet WSB Merito Opole Augustyna Kośnego 72  Opole
TRANSP: OPAQUE
SEQUENCE:0
UID:
DTSTAMP:20260423T160736Z
SUMMARY:opole.dev #14
DESCRIPTION:\n\n	opole.dev to kwartalne spotkania opolskiego środowiska związanego z szeroko pojętym IT, a w szczególności z wytwarzaniem oprogramowania. Zapraszamy każdego entuzjastę informatyki, a......
URL:https://app.evenea.pl/event/opoledev14/
PRIORITY:1
CLASS:PUBLIC
END:VEVENT
END:VCALENDAR
