BEGIN:VCALENDAR
VERSION:2.0
METHOD:PUBLISH
BEGIN:VEVENT
DTSTART:20260411T110000
DTEND:20260411T120000
LOCATION:Stowarzyszenie KLANZA w Białymstoku Witosa 15B (II piętro)  Białystok
TRANSP: OPAQUE
SEQUENCE:0
UID:
DTSTAMP:20260419T160347Z
SUMMARY:Opowiedział Dzięcioł Sowie | Spektakl oraz zabawy animacyjne dla dzieci
DESCRIPTION:🌷 Teatr Bajkowych Superbabć ponownie na scenie! Spektakl "Opowiedział dzięcioł sowie" i animacje dla dzieci. 🎭Po ciepłym przyjęciu wracamy z tym wyjątkowym wydarzeniem! Zapraszamy......
URL:https://app.evenea.pl/event/opowiedzialdzieciol/
PRIORITY:1
CLASS:PUBLIC
END:VEVENT
END:VCALENDAR
