BEGIN:VCALENDAR
VERSION:2.0
METHOD:PUBLISH
BEGIN:VEVENT
DTSTART:20230611T120000
DTEND:20230611T130000
LOCATION:Konsulat Kultury | Gdyńskie Centrum Kultury Jana z Kolna 25  Gdynia
TRANSP: OPAQUE
SEQUENCE:0
UID:
DTSTAMP:20260420T083214Z
SUMMARY:NIEWIDZIALNE BADACZKI. HERSTORYCZNA OPOWIEŚĆ O DUNKACH, KTÓRE ZMIENIAŁY ŚWIAT
DESCRIPTION:NIEWIDZIALNE BADACZKI. HERSTORYCZNA OPOWIEŚĆ O DUNKACH, KTÓRE ZMIENIAŁY ŚWIATPodczas spotkania przyjrzymy się kontekstom historycznym, społecznym i kulturowym niewielkiej widoczności......
URL:https://app.evenea.pl/event/opowiescodunkach/
PRIORITY:1
CLASS:PUBLIC
END:VEVENT
END:VCALENDAR
