BEGIN:VCALENDAR
VERSION:2.0
METHOD:PUBLISH
BEGIN:VEVENT
DTSTART:20210202T100000
DTEND:20210202T100000
LOCATION:Transmisja online   
TRANSP: OPAQUE
SEQUENCE:0
UID:
DTSTAMP:20260422T061130Z
SUMMARY:Najważniejsze zmiany w przepisach podatkowych - na co warto zwrócić uwagę
DESCRIPTION:Zapraszamy na kolejne spotkanie z cyklu "O prawie przy kawie". Wydarzenie zostanie zorganizowane w stu procentach online. Polecamy zaparzyć kubek dobrej kawy i zajęcie miejsca przed swoim......
URL:https://app.evenea.pl/event/oprawie0202/
PRIORITY:1
CLASS:PUBLIC
END:VEVENT
END:VCALENDAR
