BEGIN:VCALENDAR
VERSION:2.0
METHOD:PUBLISH
BEGIN:VEVENT
DTSTART:20220917T163000
DTEND:20220917T174500
LOCATION:Atlas Arena Bandurskiego 7  Łódź
TRANSP: OPAQUE
SEQUENCE:0
UID:
DTSTAMP:20260425T153338Z
SUMMARY:Gala Organic Life TOP 50 - ogłoszenie listy Laureatów 2022
DESCRIPTION:Rejestracja na Galę ORGANIC LIFE TOP 50 dn. 17.09.2022 r. o godz. 16:30Podczas Targów Natura Food i beECO na scenie głównej w dniu 17 września 2022 r. poznamy Laureatów Plebiscytu......
URL:https://app.evenea.pl/event/organic-life-top-50-2022/
PRIORITY:1
CLASS:PUBLIC
END:VEVENT
END:VCALENDAR
