BEGIN:VCALENDAR
VERSION:2.0
METHOD:PUBLISH
BEGIN:VEVENT
DTSTART:20231028T150000
DTEND:20231028T163000
LOCATION:Nowa Hala EXPO Łódź al. Politechniki 4  Łódź
TRANSP: OPAQUE
SEQUENCE:0
UID:
DTSTAMP:20260419T160459Z
SUMMARY:Gala Organic Life TOP 50 - ogłoszenie listy Laureatów 2023
DESCRIPTION:Rejestracja na Galę ORGANIC LIFE TOP 50 dn. 28.10.2023 r. o godz. 15:00Podczas Targów Natura Food i beECO na scenie głównej w dniu 28 października 2023 r. poznamy Laureatów Plebiscytu......
URL:https://app.evenea.pl/event/organic-life-top-50-2023/
PRIORITY:1
CLASS:PUBLIC
END:VEVENT
END:VCALENDAR
