BEGIN:VCALENDAR
VERSION:2.0
METHOD:PUBLISH
BEGIN:VEVENT
DTSTART:20250718T200000
DTEND:20250718T200000
LOCATION:Kolonia Aleja Grunwaldzka 51  Gdansk
TRANSP: OPAQUE
SEQUENCE:0
UID:
DTSTAMP:20260422T021616Z
SUMMARY:Oskar Tomala | Window Forms | 18.07.2025 | g. 20:00
DESCRIPTION:Oskar Tomala | Window Forms | 18.07.2025 | g. 20:00Kolonia | Gdańsk | Al. Grunwaldzka 51Bilety: 30 / 50 Oskar Tomala - artysta dźwiękowy, kompozytor i multiinstrumentalista mieszkający w......
URL:https://app.evenea.pl/event/oskartomala/
PRIORITY:1
CLASS:PUBLIC
END:VEVENT
END:VCALENDAR
