BEGIN:VCALENDAR
VERSION:2.0
METHOD:PUBLISH
BEGIN:VEVENT
DTSTART:20250228T180000
DTEND:20250228T210000
LOCATION:IB Polska w Hucie os. Górali 24  Kraków
TRANSP: OPAQUE
SEQUENCE:0
UID:
DTSTAMP:20260423T033231Z
SUMMARY:Ostatki w IB Polska w Hucie - Potańcówka Międzypokoleniowa!
DESCRIPTION:Ostatki w IB Polska w Hucie - Potańcówka Międzypokoleniowa! Zapraszamy na niezapomnianą potańcówkę, podczas której pożegnamy karnawał w wielkim stylu! W kulturze czas karnawału jest......
URL:https://app.evenea.pl/event/ostatkiwhucie/
PRIORITY:1
CLASS:PUBLIC
END:VEVENT
END:VCALENDAR
