BEGIN:VCALENDAR
VERSION:2.0
METHOD:PUBLISH
BEGIN:VEVENT
DTSTART:20251003T190000
DTEND:20251003T190000
LOCATION:Dobre Miejsce - Katolickie Centrum Kultury Dewajtis 3 (wej.B)  Warszawa
TRANSP: OPAQUE
SEQUENCE:0
UID:
DTSTAMP:20260426T043314Z
SUMMARY:Kabaret OT.TO - październik
DESCRIPTION:Zapraszamy na koncert Kabaretu OT.TO zatytułowany "Śpiewam po polsku". Jest to zarazem tytuł nowej płyty kabaretu która ma się ukazać na jesieni.W programie zostaną zaprezentowane......
URL:https://app.evenea.pl/event/ottopazdziernik/
PRIORITY:1
CLASS:PUBLIC
END:VEVENT
END:VCALENDAR
