BEGIN:VCALENDAR
VERSION:2.0
METHOD:PUBLISH
BEGIN:VEVENT
DTSTART:20200731T160000
DTEND:20200731T160000
LOCATION:Fablab powered by Orange Twarda 14/16  Warszawa
TRANSP: OPAQUE
SEQUENCE:0
UID:
DTSTAMP:20260421T004431Z
SUMMARY:GLOBALFABDAY Otwarta pracownia Stolarska
DESCRIPTION:Marzysz, by zacząć przygodę z pracą w drewnie❓ Jeśli tak, to nasza Stolarnia jest idealnym miejscem dla Ciebie 💪Przyjdź na dzień otwarty Stolarni w FabLab powered by Orange, by......
URL:https://app.evenea.pl/event/otwartapracowniastoalrska/
PRIORITY:1
CLASS:PUBLIC
END:VEVENT
END:VCALENDAR
