BEGIN:VCALENDAR
VERSION:2.0
METHOD:PUBLISH
BEGIN:VEVENT
DTSTART:20240904T173000
DTEND:20240904T173000
LOCATION:Mostowa 38 STX Next  poznań
TRANSP: OPAQUE
SEQUENCE:0
UID:
DTSTAMP:20260420T052739Z
SUMMARY:Meetup AI - PAIDA #3
DESCRIPTION: DATA: 04.09.2024 GODZINA: 17.30 MIEJSCE: STX Next, ul. Mostowa 38, Poznań WSTĘP: wolny, liczba miejsc ograniczona JĘZYK: prezentacje będą przedstawiane po polskuZapraszamy na trzecią edycję......
URL:https://app.evenea.pl/event/paida3/
PRIORITY:1
CLASS:PUBLIC
END:VEVENT
END:VCALENDAR
