BEGIN:VCALENDAR
VERSION:2.0
METHOD:PUBLISH
BEGIN:VEVENT
DTSTART:20260325T170000
DTEND:20260325T170000
LOCATION:Miejsce Aktywności Lokalnej Szerokie Możliwości ul. Nałęczowska 175  Lublin
TRANSP: OPAQUE
SEQUENCE:0
UID:
DTSTAMP:20260419T172355Z
SUMMARY:Palmy wielkanocne
DESCRIPTION:Zapraszamy na warsztaty tworzenia palm wielkanocnych dla rodzin i osób dorosłych. Podczas spotkania uczestnicy wspólnie przygotują tradycyjne palmy z naturalnych materiałów - gałązek,......
URL:https://app.evenea.pl/event/palmy/
PRIORITY:1
CLASS:PUBLIC
END:VEVENT
END:VCALENDAR
