BEGIN:VCALENDAR
VERSION:2.0
METHOD:PUBLISH
BEGIN:VEVENT
DTSTART:20230306T100000
DTEND:20230306T143000
LOCATION:Sąd Okręgowy we Wrocławiu ul. Sądowa 1  Wrocław
TRANSP: OPAQUE
SEQUENCE:0
UID:
DTSTAMP:20260424T150137Z
SUMMARY:Współpraca sądów z mediatorami w świetle obecnych i planowanych rozwiązań
DESCRIPTION:Z A P R O S Z E N I E\n\n	Regionalna Izba Gospodarcza Pomorza\n\nwraz z Partnerami Merytorycznymi: Sądem Okręgowym we Wrocławiu, Centrum Mediacji przy Izbie Adwokackiej we Wrocławiu, Ośrodkiem......
URL:https://app.evenea.pl/event/panel-wroclaw/
PRIORITY:1
CLASS:PUBLIC
END:VEVENT
END:VCALENDAR
