BEGIN:VCALENDAR
VERSION:2.0
METHOD:PUBLISH
BEGIN:VEVENT
DTSTART:20211021T100000
DTEND:20211021T140000
LOCATION:Aula Wydziału Prawa i Administracji Uniwersytetu Gdańskiego. Jana Bażyńskiego 6  Gdańsk
TRANSP: OPAQUE
SEQUENCE:0
UID:
DTSTAMP:20260424T150626Z
SUMMARY:Skuteczność ugód mediacyjnych zawieranych pomiędzy podmiotem publicznym, a przedsiębiorcą.
DESCRIPTION:\n\n	Z A P R O S Z E N I E\n\n\n\n	Regionalna Izba Gospodarcza Pomorza prowadząca Pomorskie Centrum Arbitrażu i Mediacji\n\n	\n\n\n\n	wraz z Partnerami Merytorycznymi: \n\n	Wydziałem Prawa i......
URL:https://app.evenea.pl/event/panel01-21pazdziernika2021/
PRIORITY:1
CLASS:PUBLIC
END:VEVENT
END:VCALENDAR
