BEGIN:VCALENDAR
VERSION:2.0
METHOD:PUBLISH
BEGIN:VEVENT
DTSTART:20251126T100000
DTEND:20251126T100000
LOCATION:Poznań Biznes Partner ul. 28 czerwca 1956 r. nr 404  Poznań
TRANSP: OPAQUE
SEQUENCE:0
UID:
DTSTAMP:20260422T131038Z
SUMMARY:Zanim komuś stanie się krzywda. Skuteczne BHP dla Twojej firmy
DESCRIPTION:Wspólnie z Joanną Żurkiewicz, Pani od BHP, zapraszamy na bezpłatne szkolenie stacjonarne: Zanim komuś stanie się krzywda. Skuteczne BHP dla Twojej firmyDowiedz się, jak zadbać o BHP w......
URL:https://app.evenea.pl/event/paniodbhp/
PRIORITY:1
CLASS:PUBLIC
END:VEVENT
END:VCALENDAR
