BEGIN:VCALENDAR
VERSION:2.0
METHOD:PUBLISH
BEGIN:VEVENT
DTSTART:20200405T170000
DTEND:20200405T170000
LOCATION:Laboratorium Pana Korka Kukułek 65  Sosnowiec
TRANSP: OPAQUE
SEQUENCE:0
UID:
DTSTAMP:20260423T121937Z
SUMMARY:Weź to na zimno — 1,5 godziny ekscytujących eksperymentów dla całej rodziny — Naukowe sposoby obniżania temperatury
DESCRIPTION:WEŹ TO NA ZIMNO!\n\n\n\n	Michał Szydłowski, popularyzator nauki z \n\n	Laboratorium Pana Korka chłodnym, a w porywach nawet mrożącym, aczkolwiek naukowym okiem, spojrzy na \n\n	różne......
URL:https://app.evenea.pl/event/pankorek/
PRIORITY:1
CLASS:PUBLIC
END:VEVENT
END:VCALENDAR
