BEGIN:VCALENDAR
VERSION:2.0
METHOD:PUBLISH
BEGIN:VEVENT
DTSTART:20200213T120000
DTEND:20200213T120000
LOCATION:sala kolumnowa Urzędu Miasta Racibórz Króla Stefana Batorego 6  Racibórz
TRANSP: OPAQUE
SEQUENCE:0
UID:
DTSTAMP:20260425T145442Z
SUMMARY:Konsultacje dotyczące utworzenia Parku Kulturowego Stare Miasto Racibórz
DESCRIPTION:W ramach posiedzenia Konsultacyjnej Rady Gospodarczej przy Prezydencie Miasta Racibórz odbędzie się prezentacja koncepcji utworzenia Parku Kulturowego w Raciborzu oraz konsultacje ze......
URL:https://app.evenea.pl/event/park-kulturowy-stare-miasto-w-raciborzu/
PRIORITY:1
CLASS:PUBLIC
END:VEVENT
END:VCALENDAR
