BEGIN:VCALENDAR
VERSION:2.0
METHOD:PUBLISH
BEGIN:VEVENT
DTSTART:20230615T093000
DTEND:20230615T093000
LOCATION:Park Naukowo-Technologiczny Polska-Wschód w Suwałkach Innowacyjna 1  Suwałki
TRANSP: OPAQUE
SEQUENCE:0
UID:
DTSTAMP:20260423T103149Z
SUMMARY:Ochrona własności intelektualnej i przemysłowej, czyli jak chronić swoje pomysły?
DESCRIPTION:Serdecznie zapraszamy na spotkanie "Ochrona własności intelektualnej i przemysłowej, czyli jak chronić swoje pomysły?", zorganizowaną przez Park Naukowo-Technologiczny Polska-Wschód w......
URL:https://app.evenea.pl/event/patent/
PRIORITY:1
CLASS:PUBLIC
END:VEVENT
END:VCALENDAR
