BEGIN:VCALENDAR
VERSION:2.0
METHOD:PUBLISH
BEGIN:VEVENT
DTSTART:20200107T180000
DTEND:20200107T210000
LOCATION:Ośrodek Psychoterapii Dzieci i Młodzieży - Koparka ul. Strzygłowska 61  Warszawa
TRANSP: OPAQUE
SEQUENCE:0
UID:
DTSTAMP:20260422T225048Z
SUMMARY:WARSZAWA - WAWER - TRENING UMIEJĘTNOŚCI RODZICIELSKICH W DUCHU POZYTYWNEJ DYSCYPLINY - CYKL MINI WARSZTATÓW
DESCRIPTION:WARSZAWA, WAWER - TRENING UMIEJĘTNOŚCI RODZICIELSKICH W DUCHU POZYTYWNEJ DYSCYPLINY - CYKL MINI WARSZTATÓWCykl 6 warsztatów z Pozytywną Dyscypliną dla Rodziców dzieci w wieku przedszkolnym i......
URL:https://app.evenea.pl/event/pdkoparkai2020/
PRIORITY:1
CLASS:PUBLIC
END:VEVENT
END:VCALENDAR
