BEGIN:VCALENDAR
VERSION:2.0
METHOD:PUBLISH
BEGIN:VEVENT
DTSTART:20211108T090000
DTEND:20211108T143000
LOCATION:online   
TRANSP: OPAQUE
SEQUENCE:0
UID:
DTSTAMP:20260425T151117Z
SUMMARY:Pomorskie Dni Przedsiębiorczości 2021
DESCRIPTION:Doradcy zawodowi z Wojewódzkiego Urzędu Pracy w Gdańsku zapraszają na bezpłatne webinary Żyjemy w świecie VUCA - zmiennym, złożonym niejednoznacznym, naznaczonym niepewnością. W jaki......
URL:https://app.evenea.pl/event/pdp2021/
PRIORITY:1
CLASS:PUBLIC
END:VEVENT
END:VCALENDAR
